BEGIN:VCALENDAR
VERSION:2.0
PRODID:-//Plone.org//NONSGML plone.app.event//EN
X-WR-TIMEZONE:Europe/Madrid
BEGIN:VEVENT
SUMMARY:Noches Gastronómicas - Sabores de Arepas: Colombia y Venezuela
DTSTART;TZID=Europe/Madrid;VALUE=DATE-TIME:20260430T190000
DTEND;TZID=Europe/Madrid;VALUE=DATE-TIME:20260430T200000
DTSTAMP;VALUE=DATE-TIME:20260422T230920Z
UID:9c63cc86122549e5a4cfc4a371ca0fe6@www.molletvalles.cat
CATEGORIES:Cursos y talleres
CREATED;VALUE=DATE-TIME:20260422T110447Z
LAST-MODIFIED;VALUE=DATE-TIME:20260422T113049Z
LOCATION:Museo Abelló
URL:https://www.molletvalles.cat/es/actualidad/agenda/noches-gastronomicas
 -sabores-de-arepas-colombia-y-venezuela
END:VEVENT
BEGIN:VTIMEZONE
TZID:Europe/Madrid
X-LIC-LOCATION:Europe/Madrid
BEGIN:DAYLIGHT
DTSTART;VALUE=DATE-TIME:20260329T030000
TZNAME:CEST
TZOFFSETFROM:+0100
TZOFFSETTO:+0200
END:DAYLIGHT
END:VTIMEZONE
END:VCALENDAR
