BEGIN:VCALENDAR
VERSION:2.0
PRODID:-//Plone.org//NONSGML plone.app.event//EN
X-WR-TIMEZONE:Europe/Madrid
BEGIN:VEVENT
SUMMARY:Ofrenda floral con motivo del 84 aniversario de la muerte de Lluí
 s Companys
DTSTART;TZID=Europe/Madrid;VALUE=DATE-TIME:20241015T180000
DTEND;TZID=Europe/Madrid;VALUE=DATE-TIME:20241015T190000
DTSTAMP;VALUE=DATE-TIME:20260419T162211Z
UID:e7a980ff22d84c568431a44071ea0c7a@www.molletvalles.cat
CATEGORIES:Actos de ciudad
CREATED;VALUE=DATE-TIME:20241010T093136Z
LAST-MODIFIED;VALUE=DATE-TIME:20241010T093149Z
LOCATION:Parque Lluís Companys
URL:https://www.molletvalles.cat/es/actualidad/agenda/ofrenda-floral-con-m
 otivo-del-84-aniversario-de-la-muerte-de-lluis-companys
END:VEVENT
BEGIN:VTIMEZONE
TZID:Europe/Madrid
X-LIC-LOCATION:Europe/Madrid
BEGIN:DAYLIGHT
DTSTART;VALUE=DATE-TIME:20240331T030000
TZNAME:CEST
TZOFFSETFROM:+0100
TZOFFSETTO:+0200
END:DAYLIGHT
END:VTIMEZONE
END:VCALENDAR
