BEGIN:VCALENDAR
VERSION:2.0
PRODID:-//Plone.org//NONSGML plone.app.event//EN
X-WR-TIMEZONE:Europe/Madrid
BEGIN:VEVENT
SUMMARY:Open de Ajedrez Memorial Ezequiel Martín
DTSTART;VALUE=DATE:20250608
DTEND;VALUE=DATE:20250609
DTSTAMP;VALUE=DATE-TIME:20260421T135647Z
UID:08d47fea705542ffb803bbd794dc04e8@www.molletvalles.cat
CATEGORIES:Deportes
CREATED;VALUE=DATE-TIME:20250414T092142Z
LAST-MODIFIED;VALUE=DATE-TIME:20250414T112313Z
URL:https://www.molletvalles.cat/es/actualidad/agenda/open-de-ajedrez-memo
 rial-ezequiel-martin
END:VEVENT
END:VCALENDAR
