BEGIN:VCALENDAR
VERSION:2.0
PRODID:-//Plone.org//NONSGML plone.app.event//EN
X-WR-TIMEZONE:Europe/Madrid
BEGIN:VEVENT
SUMMARY:Pantalla gigante con motivo de la "Champions Femenina"
DTSTART;TZID=Europe/Madrid;VALUE=DATE-TIME:20250524T180000
DTEND;TZID=Europe/Madrid;VALUE=DATE-TIME:20250524T213000
DTSTAMP;VALUE=DATE-TIME:20260419T162517Z
UID:5b570e95dde7496d9b0d8a19b2fe481c@www.molletvalles.cat
CATEGORIES:Deportes
CREATED;VALUE=DATE-TIME:20250509T094817Z
LAST-MODIFIED;VALUE=DATE-TIME:20250512T103806Z
LOCATION:Pista Exterior Pabellón Municipal de Deportes Riera Seca
URL:https://www.molletvalles.cat/es/actualidad/agenda/pantalla-gigante-con
 -motivo-de-la-champions-femenina
END:VEVENT
BEGIN:VTIMEZONE
TZID:Europe/Madrid
X-LIC-LOCATION:Europe/Madrid
BEGIN:DAYLIGHT
DTSTART;VALUE=DATE-TIME:20250330T030000
TZNAME:CEST
TZOFFSETFROM:+0100
TZOFFSETTO:+0200
END:DAYLIGHT
END:VTIMEZONE
END:VCALENDAR
