BEGIN:VCALENDAR
VERSION:2.0
PRODID:-//Plone.org//NONSGML plone.app.event//EN
X-WR-TIMEZONE:Europe/Madrid
BEGIN:VEVENT
SUMMARY:Pasacalle con la Colla Gegantera\, Castellers de Mollet y Club Mun
 tanyenc para recibir la Flama del Canigó
DTSTART;TZID=Europe/Madrid;VALUE=DATE-TIME:20240623T191500
DTEND;TZID=Europe/Madrid;VALUE=DATE-TIME:20240623T201500
DTSTAMP;VALUE=DATE-TIME:20260419T162508Z
UID:50c87001cfd74e64882e336701bdfa93@www.molletvalles.cat
CATEGORIES:Fiestas populares
CREATED;VALUE=DATE-TIME:20240612T083931Z
DESCRIPTION:VERBENA DE SAN JUAN 2024
LAST-MODIFIED;VALUE=DATE-TIME:20240612T110951Z
LOCATION:Desde la Rambla Nova (A la altura de Via Ronda)
URL:https://www.molletvalles.cat/es/actualidad/agenda/pasacalle-con-la-col
 la-gegantera-castellers-de-mollet-y-club-muntanyenc-para-recibir-la-flama-
 del-canigo-1
END:VEVENT
BEGIN:VTIMEZONE
TZID:Europe/Madrid
X-LIC-LOCATION:Europe/Madrid
BEGIN:DAYLIGHT
DTSTART;VALUE=DATE-TIME:20240331T030000
TZNAME:CEST
TZOFFSETFROM:+0100
TZOFFSETTO:+0200
END:DAYLIGHT
END:VTIMEZONE
END:VCALENDAR
