BEGIN:VCALENDAR
VERSION:2.0
PRODID:-//Plone.org//NONSGML plone.app.event//EN
X-WR-TIMEZONE:Europe/Madrid
BEGIN:VEVENT
SUMMARY:Pasacalle con los Castellers de Mollet del Vallès\, los cabezones
  de Gigantes de Mollet y el Tòful y la Dinga\, cabezones de la Feria de A
 rtesanos
DTSTART;TZID=Europe/Madrid;VALUE=DATE-TIME:20250921T110000
DTEND;TZID=Europe/Madrid;VALUE=DATE-TIME:20250921T120000
DTSTAMP;VALUE=DATE-TIME:20260419T170422Z
UID:9058af69753f45efb4b4a1de7e8766a8@www.molletvalles.cat
CATEGORIES:Ferias y mercados
CREATED;VALUE=DATE-TIME:20250915T092704Z
DESCRIPTION:FERIA DE ARTESANOS 2025
LAST-MODIFIED;VALUE=DATE-TIME:20250915T093117Z
LOCATION:Recorrido: De Plaza Cataluña a Plaza de la Artesanía
URL:https://www.molletvalles.cat/es/actualidad/agenda/pasacalle-con-los-ca
 stellers-de-mollet-del-valles-los-cabezones-de-gigantes-de-mollet-y-el-tof
 ul-y-la-dinga-cabezones-de-la-feria-de-artesanos
END:VEVENT
BEGIN:VTIMEZONE
TZID:Europe/Madrid
X-LIC-LOCATION:Europe/Madrid
BEGIN:DAYLIGHT
DTSTART;VALUE=DATE-TIME:20250330T030000
TZNAME:CEST
TZOFFSETFROM:+0100
TZOFFSETTO:+0200
END:DAYLIGHT
END:VTIMEZONE
END:VCALENDAR
