BEGIN:VCALENDAR
VERSION:2.0
PRODID:-//Plone.org//NONSGML plone.app.event//EN
X-WR-TIMEZONE:Europe/Madrid
BEGIN:VEVENT
SUMMARY:Pasacalle con los Castellers de Mollet del Vallès\, los cabezones
  de Gigantes de Mollet y el Tòful y la Dinga\, cabezones de la Feria de A
 rtesanos
DTSTART;TZID=Europe/Madrid;VALUE=DATE-TIME:20230917T110000
DTEND;TZID=Europe/Madrid;VALUE=DATE-TIME:20230917T120000
DTSTAMP;VALUE=DATE-TIME:20260421T162049Z
UID:10229a6bba894a0ebb7f49492534d8fc@www.molletvalles.cat
CATEGORIES:Ferias
CREATED;VALUE=DATE-TIME:20230908T112040Z
DESCRIPTION:FERIA DE ARTESANOS 2023
LAST-MODIFIED;VALUE=DATE-TIME:20230908T112339Z
LOCATION:Plaza Cataluña
URL:https://www.molletvalles.cat/es/actualidad/agenda/pasacalle-con-los-ca
 stellers-de-mollet-del-valles-los-renacuajos-de-gigantes-de-mollet-y-el-to
 ful-y-la-dinga-renacuajos-de-la-feria-de-artesanos
END:VEVENT
BEGIN:VTIMEZONE
TZID:Europe/Madrid
X-LIC-LOCATION:Europe/Madrid
BEGIN:DAYLIGHT
DTSTART;VALUE=DATE-TIME:20230326T030000
TZNAME:CEST
TZOFFSETFROM:+0100
TZOFFSETTO:+0200
END:DAYLIGHT
END:VTIMEZONE
END:VCALENDAR
