BEGIN:VCALENDAR
VERSION:2.0
PRODID:-//Plone.org//NONSGML plone.app.event//EN
X-WR-TIMEZONE:Europe/Madrid
BEGIN:VEVENT
SUMMARY:Pasacalle de las entidades: El Moll Fer\, La Santa Teca\, La Cuca 
 Molla\, els Gegants de la Colla Gegantera\, Espiadimonis\, Castellers y Ba
 ll de Diables
DTSTART;TZID=Europe/Madrid;VALUE=DATE-TIME:20240120T113000
DTEND;TZID=Europe/Madrid;VALUE=DATE-TIME:20240120T123000
DTSTAMP;VALUE=DATE-TIME:20260421T191901Z
UID:3ef80166fb934448978a2feb27c14f8b@www.molletvalles.cat
CATEGORIES:Fiestas populares
CREATED;VALUE=DATE-TIME:20240112T105917Z
DESCRIPTION:FIESTA MAYOR DE INVIERNO
LAST-MODIFIED;VALUE=DATE-TIME:20240112T123440Z
LOCATION:Rambla de Balmes - Instituto Aiguaviva
URL:https://www.molletvalles.cat/es/actualidad/agenda/pasacalle-de-las-ent
 idades-el-moll-fer-la-santa-teca-la-cuca-molla-els-gegants-de-la-colla-geg
 antera-espiadimonis-castellers-y-ball-de-diables
END:VEVENT
BEGIN:VTIMEZONE
TZID:Europe/Madrid
X-LIC-LOCATION:Europe/Madrid
BEGIN:STANDARD
DTSTART;VALUE=DATE-TIME:20231029T020000
TZNAME:CET
TZOFFSETFROM:+0200
TZOFFSETTO:+0100
END:STANDARD
END:VTIMEZONE
END:VCALENDAR
