BEGIN:VCALENDAR
VERSION:2.0
PRODID:-//Plone.org//NONSGML plone.app.event//EN
X-WR-TIMEZONE:Europe/Madrid
BEGIN:VEVENT
SUMMARY:Pasacalle del XXIX Encuentro de Gigantes
DTSTART;TZID=Europe/Madrid;VALUE=DATE-TIME:20240121T113000
DTEND;TZID=Europe/Madrid;VALUE=DATE-TIME:20240121T123000
DTSTAMP;VALUE=DATE-TIME:20260421T140542Z
UID:a4dd732edeee4bf48ed216ec04d270de@www.molletvalles.cat
CATEGORIES:Fiestas populares
CREATED;VALUE=DATE-TIME:20240115T123904Z
DESCRIPTION:FIESTA MAYOR DE INVIERNO
LAST-MODIFIED;VALUE=DATE-TIME:20240115T123915Z
LOCATION:Plaza de Prat de la Riba
URL:https://www.molletvalles.cat/es/actualidad/agenda/pasacalle-del-xxix-e
 ncuentro-de-gigantes
END:VEVENT
BEGIN:VTIMEZONE
TZID:Europe/Madrid
X-LIC-LOCATION:Europe/Madrid
BEGIN:STANDARD
DTSTART;VALUE=DATE-TIME:20231029T020000
TZNAME:CET
TZOFFSETFROM:+0200
TZOFFSETTO:+0100
END:STANDARD
END:VTIMEZONE
END:VCALENDAR
