BEGIN:VCALENDAR
VERSION:2.0
PRODID:-//Plone.org//NONSGML plone.app.event//EN
X-WR-TIMEZONE:Europe/Madrid
BEGIN:VEVENT
SUMMARY:Paseo guiado "Joan Abelló y Jordi Solé Tura\, infancia y juventu
 d de dos vecinos que se convertirán en molletenses universales"
DTSTART;TZID=Europe/Madrid;VALUE=DATE-TIME:20241116T110000
DTEND;TZID=Europe/Madrid;VALUE=DATE-TIME:20241116T120000
DTSTAMP;VALUE=DATE-TIME:20260419T162448Z
UID:d216ebd256b249cdabd72ad58a4ef5e6@www.molletvalles.cat
CATEGORIES:Charlas,Actos diversos
CREATED;VALUE=DATE-TIME:20241029T070414Z
DESCRIPTION:XXV Jornadas del Centre d’Estudis Molletans: Próxima estaci
 ón\, Mollet
LAST-MODIFIED;VALUE=DATE-TIME:20241029T070420Z
URL:https://www.molletvalles.cat/es/actualidad/agenda/paseo-guiado-joan-ab
 ello-y-jordi-sole-tura-infancia-y-juventud-de-dos-vecinos-que-se-convertir
 an-en-molletenses-universales
END:VEVENT
BEGIN:VTIMEZONE
TZID:Europe/Madrid
X-LIC-LOCATION:Europe/Madrid
BEGIN:STANDARD
DTSTART;VALUE=DATE-TIME:20241027T020000
TZNAME:CET
TZOFFSETFROM:+0200
TZOFFSETTO:+0100
END:STANDARD
END:VTIMEZONE
END:VCALENDAR
