BEGIN:VCALENDAR
VERSION:2.0
PRODID:-//Plone.org//NONSGML plone.app.event//EN
X-WR-TIMEZONE:Europe/Madrid
BEGIN:VEVENT
SUMMARY:Potaje gratuito para los socios y con precio popular para quien no
  lo sea
DTSTART;TZID=Europe/Madrid;VALUE=DATE-TIME:20230507T140000
DTEND;TZID=Europe/Madrid;VALUE=DATE-TIME:20230507T150000
DTSTAMP;VALUE=DATE-TIME:20260419T220124Z
UID:b5f24c94c2b64c4fa8877e15d31eadc1@www.molletvalles.cat
CATEGORIES:Fiestas populares
CREATED;VALUE=DATE-TIME:20230428T112216Z
DESCRIPTION:LA CRUZ DE MAYO
LAST-MODIFIED;VALUE=DATE-TIME:20230502T113937Z
URL:https://www.molletvalles.cat/es/actualidad/agenda/potaje-gratuito-para
 -los-socios-y-con-precio-popular-para-quien-no-lo-sea
END:VEVENT
BEGIN:VTIMEZONE
TZID:Europe/Madrid
X-LIC-LOCATION:Europe/Madrid
BEGIN:DAYLIGHT
DTSTART;VALUE=DATE-TIME:20230326T030000
TZNAME:CEST
TZOFFSETFROM:+0100
TZOFFSETTO:+0200
END:DAYLIGHT
END:VTIMEZONE
END:VCALENDAR
