BEGIN:VCALENDAR
VERSION:2.0
PRODID:-//Plone.org//NONSGML plone.app.event//EN
X-WR-TIMEZONE:Europe/Madrid
BEGIN:VEVENT
SUMMARY:Presentación de la exposición “ReHabilitem” y mesa informati
 va sobre la rehabilitación energética
DTSTART;TZID=Europe/Madrid;VALUE=DATE-TIME:20250529T163000
DTEND;TZID=Europe/Madrid;VALUE=DATE-TIME:20250529T183000
DTSTAMP;VALUE=DATE-TIME:20260419T170304Z
UID:886b88862985456087c37c0578638788@www.molletvalles.cat
CATEGORIES:Charlas
CREATED;VALUE=DATE-TIME:20250507T114459Z
LAST-MODIFIED;VALUE=DATE-TIME:20250513T060817Z
URL:https://www.molletvalles.cat/es/actualidad/agenda/presentacion-de-la-e
 xposicion-201crehabilitem201d-y-mesa-informativa-sobre-la-rehabilitacion-e
 nergetica
END:VEVENT
BEGIN:VTIMEZONE
TZID:Europe/Madrid
X-LIC-LOCATION:Europe/Madrid
BEGIN:DAYLIGHT
DTSTART;VALUE=DATE-TIME:20250330T030000
TZNAME:CEST
TZOFFSETFROM:+0100
TZOFFSETTO:+0200
END:DAYLIGHT
END:VTIMEZONE
END:VCALENDAR
