BEGIN:VCALENDAR
VERSION:2.0
PRODID:-//Plone.org//NONSGML plone.app.event//EN
X-WR-TIMEZONE:Europe/Madrid
BEGIN:VEVENT
SUMMARY:Presentación del libro “Dos historias unidas” de los autores 
 locales Francisco Bueno y Charo García
DTSTART;TZID=Europe/Madrid;VALUE=DATE-TIME:20230630T190000
DTEND;TZID=Europe/Madrid;VALUE=DATE-TIME:20230630T200000
DTSTAMP;VALUE=DATE-TIME:20260421T161813Z
UID:3406dc820f73445b889e51515746f848@www.molletvalles.cat
CATEGORIES:Actos diversos
CREATED;VALUE=DATE-TIME:20230626T122855Z
LAST-MODIFIED;VALUE=DATE-TIME:20230627T075748Z
URL:https://www.molletvalles.cat/es/actualidad/agenda/presentacion-del-lib
 ro-201cdos-historias-unidas201d-de-los-autores-locales-francisco-bueno-y-c
 haro-garcia
END:VEVENT
BEGIN:VTIMEZONE
TZID:Europe/Madrid
X-LIC-LOCATION:Europe/Madrid
BEGIN:DAYLIGHT
DTSTART;VALUE=DATE-TIME:20230326T030000
TZNAME:CEST
TZOFFSETFROM:+0100
TZOFFSETTO:+0200
END:DAYLIGHT
END:VTIMEZONE
END:VCALENDAR
