BEGIN:VCALENDAR
VERSION:2.0
PRODID:-//Plone.org//NONSGML plone.app.event//EN
X-WR-TIMEZONE:Europe/Madrid
BEGIN:VEVENT
SUMMARY:Presentación del libro “Retazos de mi ser”
DTSTART;TZID=Europe/Madrid;VALUE=DATE-TIME:20250207T183000
DTEND;TZID=Europe/Madrid;VALUE=DATE-TIME:20250207T193000
DTSTAMP;VALUE=DATE-TIME:20260421T135625Z
UID:ccc90a7b12c14d359163a9c891d7fd70@www.molletvalles.cat
CATEGORIES:Charlas
CREATED;VALUE=DATE-TIME:20250204T065915Z
LAST-MODIFIED;VALUE=DATE-TIME:20250204T065922Z
LOCATION:Abacus Mollet
URL:https://www.molletvalles.cat/es/actualidad/agenda/presentacion-del-lib
 ro-201cretazos-de-mi-ser201d
END:VEVENT
BEGIN:VTIMEZONE
TZID:Europe/Madrid
X-LIC-LOCATION:Europe/Madrid
BEGIN:STANDARD
DTSTART;VALUE=DATE-TIME:20241027T020000
TZNAME:CET
TZOFFSETFROM:+0200
TZOFFSETTO:+0100
END:STANDARD
END:VTIMEZONE
END:VCALENDAR
