BEGIN:VCALENDAR
VERSION:2.0
PRODID:-//Plone.org//NONSGML plone.app.event//EN
X-WR-TIMEZONE:Europe/Madrid
BEGIN:VEVENT
SUMMARY:Presentación del libro "Amb (con)sentiment"\, de Carmen Esteban\,
  con ilustraciones de Júlia Quintana
DTSTART;TZID=Europe/Madrid;VALUE=DATE-TIME:20240309T123000
DTEND;TZID=Europe/Madrid;VALUE=DATE-TIME:20240309T133000
DTSTAMP;VALUE=DATE-TIME:20260421T114325Z
UID:258895297686412a89c1d7004ce1747d@www.molletvalles.cat
CATEGORIES:Charlas,Infantil
CREATED;VALUE=DATE-TIME:20240305T081153Z
LAST-MODIFIED;VALUE=DATE-TIME:20240305T081330Z
LOCATION:Llibreria L'Illa
URL:https://www.molletvalles.cat/es/actualidad/agenda/presentacion-del-lib
 ro-con-con-sentimiento-de-carmen-esteban-con-ilustraciones-de-julia-quinta
 na
END:VEVENT
BEGIN:VTIMEZONE
TZID:Europe/Madrid
X-LIC-LOCATION:Europe/Madrid
BEGIN:STANDARD
DTSTART;VALUE=DATE-TIME:20231029T020000
TZNAME:CET
TZOFFSETFROM:+0200
TZOFFSETTO:+0100
END:STANDARD
END:VTIMEZONE
END:VCALENDAR
