BEGIN:VCALENDAR
VERSION:2.0
PRODID:-//Plone.org//NONSGML plone.app.event//EN
X-WR-TIMEZONE:Europe/Madrid
BEGIN:VEVENT
SUMMARY:Presentación del libro CONFETI\, de Jordi Puntí\, ganador del Pr
 emio Sant Jordi 2024
DTSTART;TZID=Europe/Madrid;VALUE=DATE-TIME:20240321T193000
DTEND;TZID=Europe/Madrid;VALUE=DATE-TIME:20240321T203000
DTSTAMP;VALUE=DATE-TIME:20260419T162031Z
UID:88134fef11a648c0942fd5a3f424445e@www.molletvalles.cat
CATEGORIES:Charlas
CREATED;VALUE=DATE-TIME:20240318T133338Z
LAST-MODIFIED;VALUE=DATE-TIME:20240318T133724Z
LOCATION:Librería La Isla
URL:https://www.molletvalles.cat/es/actualidad/agenda/presentacion-del-lib
 ro-confeti-de-jordi-punti-ganador-del-premio-sant-jordi-2024
END:VEVENT
BEGIN:VTIMEZONE
TZID:Europe/Madrid
X-LIC-LOCATION:Europe/Madrid
BEGIN:STANDARD
DTSTART;VALUE=DATE-TIME:20231029T020000
TZNAME:CET
TZOFFSETFROM:+0200
TZOFFSETTO:+0100
END:STANDARD
END:VTIMEZONE
END:VCALENDAR
