BEGIN:VCALENDAR
VERSION:2.0
PRODID:-//Plone.org//NONSGML plone.app.event//EN
X-WR-TIMEZONE:Europe/Madrid
BEGIN:VEVENT
SUMMARY:Presentación del volumen 40 de la revista Notes. Conferencia "La 
 vida en las masías de Mollet y Gallecs (siglos XIII-XVI) a partir de los 
 pergaminos del Fondo Ramon Ros Castelló"
DTSTART;TZID=Europe/Madrid;VALUE=DATE-TIME:20250122T123000
DTEND;TZID=Europe/Madrid;VALUE=DATE-TIME:20250122T133000
DTSTAMP;VALUE=DATE-TIME:20260421T162228Z
UID:e36112917906449999fe241b5d476b5b@www.molletvalles.cat
CATEGORIES:Actes diversos,Charlas
CREATED;VALUE=DATE-TIME:20250117T101058Z
DESCRIPTION:FIESTA MAYOR DE INVIERNO
LAST-MODIFIED;VALUE=DATE-TIME:20250120T073114Z
LOCATION:Sala Fiveller
URL:https://www.molletvalles.cat/es/actualidad/agenda/presentacion-del-vol
 umen-40-de-la-revista-notes-conferencia-la-vida-en-las-masias-de-mollet-y-
 gallecs-siglos-xiii-xvi-a-partir-de-los-pergaminos-del-fondo-ramon-ros-cas
 tello
END:VEVENT
BEGIN:VTIMEZONE
TZID:Europe/Madrid
X-LIC-LOCATION:Europe/Madrid
BEGIN:STANDARD
DTSTART;VALUE=DATE-TIME:20241027T020000
TZNAME:CET
TZOFFSETFROM:+0200
TZOFFSETTO:+0100
END:STANDARD
END:VTIMEZONE
END:VCALENDAR
