BEGIN:VCALENDAR
VERSION:2.0
PRODID:-//Plone.org//NONSGML plone.app.event//EN
X-WR-TIMEZONE:Europe/Madrid
BEGIN:VEVENT
SUMMARY:Primavera Republicana. Exposición "Rojo y Violeta\, homenaje a la
 s mujeres luchadoras"
DTSTART;VALUE=DATE:20230414
DTEND;VALUE=DATE:20230417
DTSTAMP;VALUE=DATE-TIME:20260419T162032Z
UID:92a319ca4e504fcaa4383b27c820ba26@www.molletvalles.cat
CATEGORIES:Exposiciones
CREATED;VALUE=DATE-TIME:20230411T074026Z
LAST-MODIFIED;VALUE=DATE-TIME:20230411T082728Z
LOCATION:Sala Fiveller
URL:https://www.molletvalles.cat/es/actualidad/agenda/primavera-republican
 a-exposicion-rojo-y-violeta-homenaje-a-las-mujeres-luchadoras
END:VEVENT
END:VCALENDAR
