BEGIN:VCALENDAR
VERSION:2.0
PRODID:-//Plone.org//NONSGML plone.app.event//EN
X-WR-TIMEZONE:Europe/Madrid
BEGIN:VEVENT
SUMMARY:Primavera Republicana. Inauguración exposición "Rojo y Violeta\,
  homenaje a las mujeres luchadoras"
DTSTART;TZID=Europe/Madrid;VALUE=DATE-TIME:20230414T190000
DTEND;TZID=Europe/Madrid;VALUE=DATE-TIME:20230414T200000
DTSTAMP;VALUE=DATE-TIME:20260419T170414Z
UID:e71987954cda4bb597bfcf3727712b70@www.molletvalles.cat
CATEGORIES:Exposiciones
CREATED;VALUE=DATE-TIME:20230411T072623Z
LAST-MODIFIED;VALUE=DATE-TIME:20230411T072631Z
LOCATION:Sala Fiveller
URL:https://www.molletvalles.cat/es/actualidad/agenda/primavera-republican
 a-inauguracion-exposicion-rojo-y-violeta-homenaje-a-las-mujeres-luchadoras
END:VEVENT
BEGIN:VTIMEZONE
TZID:Europe/Madrid
X-LIC-LOCATION:Europe/Madrid
BEGIN:DAYLIGHT
DTSTART;VALUE=DATE-TIME:20230326T030000
TZNAME:CEST
TZOFFSETFROM:+0100
TZOFFSETTO:+0200
END:DAYLIGHT
END:VTIMEZONE
END:VCALENDAR
