BEGIN:VCALENDAR
VERSION:2.0
PRODID:-//Plone.org//NONSGML plone.app.event//EN
X-WR-TIMEZONE:Europe/Madrid
BEGIN:VEVENT
SUMMARY:Puertas abiertas en el Museu Abelló
DTSTART;TZID=Europe/Madrid;VALUE=DATE-TIME:20250119T110000
DTEND;TZID=Europe/Madrid;VALUE=DATE-TIME:20250119T190000
DTSTAMP;VALUE=DATE-TIME:20260421T135715Z
UID:306a10c06cc54a25a1810fe6fba153c4@www.molletvalles.cat
CATEGORIES:Exposiciones
CREATED;VALUE=DATE-TIME:20250115T130345Z
DESCRIPTION:FIESTA MAYOR DE INVIERNO
LAST-MODIFIED;VALUE=DATE-TIME:20250116T125059Z
URL:https://www.molletvalles.cat/es/actualidad/agenda/puertas-abiertas-en-
 el-museu-abello-2
END:VEVENT
BEGIN:VTIMEZONE
TZID:Europe/Madrid
X-LIC-LOCATION:Europe/Madrid
BEGIN:STANDARD
DTSTART;VALUE=DATE-TIME:20241027T020000
TZNAME:CET
TZOFFSETFROM:+0200
TZOFFSETTO:+0100
END:STANDARD
END:VTIMEZONE
END:VCALENDAR
