BEGIN:VCALENDAR
VERSION:2.0
PRODID:-//Plone.org//NONSGML plone.app.event//EN
X-WR-TIMEZONE:Europe/Madrid
BEGIN:VEVENT
SUMMARY:Puertas Abiertas en la Escuela Municipal de Música y Danza de Mol
 let del Vallès
DTSTART;TZID=Europe/Madrid;VALUE=DATE-TIME:20250508T180000
DTEND;TZID=Europe/Madrid;VALUE=DATE-TIME:20250508T190000
DTSTAMP;VALUE=DATE-TIME:20260423T140117Z
UID:e0b57cd26122477da0c0df43409da988@www.molletvalles.cat
CATEGORIES:Actos diversos
CREATED;VALUE=DATE-TIME:20250410T075254Z
LAST-MODIFIED;VALUE=DATE-TIME:20250410T075322Z
LOCATION:(Castelao\, 2)
URL:https://www.molletvalles.cat/es/actualidad/agenda/puertas-abiertas-en-
 la-escuela-municipal-de-musica-y-danza-de-mollet-del-valles
END:VEVENT
BEGIN:VTIMEZONE
TZID:Europe/Madrid
X-LIC-LOCATION:Europe/Madrid
BEGIN:DAYLIGHT
DTSTART;VALUE=DATE-TIME:20250330T030000
TZNAME:CEST
TZOFFSETFROM:+0100
TZOFFSETTO:+0200
END:DAYLIGHT
END:VTIMEZONE
END:VCALENDAR
