BEGIN:VCALENDAR
VERSION:2.0
PRODID:-//Plone.org//NONSGML plone.app.event//EN
X-WR-TIMEZONE:Europe/Madrid
BEGIN:VEVENT
SUMMARY:Realización y emisión en directo desde Ràdio Mollet del program
 a "Nuestros mayores"
DTSTART;TZID=Europe/Madrid;VALUE=DATE-TIME:20250514T100000
DTEND;TZID=Europe/Madrid;VALUE=DATE-TIME:20250514T110000
DTSTAMP;VALUE=DATE-TIME:20260421T140641Z
UID:e308fccefd8e449781c585310f52634a@www.molletvalles.cat
CATEGORIES:Actos diversos
CREATED;VALUE=DATE-TIME:20250505T090339Z
DESCRIPTION:POR MUCHOS AÑOS!
LAST-MODIFIED;VALUE=DATE-TIME:20250505T090744Z
LOCATION:Radio Mollet 96.3 FM
URL:https://www.molletvalles.cat/es/actualidad/agenda/realizacion-y-emisio
 n-en-directo-desde-radio-mollet-del-programa-nuestros-mayores-1
END:VEVENT
BEGIN:VTIMEZONE
TZID:Europe/Madrid
X-LIC-LOCATION:Europe/Madrid
BEGIN:DAYLIGHT
DTSTART;VALUE=DATE-TIME:20250330T030000
TZNAME:CEST
TZOFFSETFROM:+0100
TZOFFSETTO:+0200
END:DAYLIGHT
END:VTIMEZONE
END:VCALENDAR
