BEGIN:VCALENDAR
VERSION:2.0
PRODID:-//Plone.org//NONSGML plone.app.event//EN
X-WR-TIMEZONE:Europe/Madrid
BEGIN:VEVENT
SUMMARY:Resonancias femeninas: Actuación de Letícia Sales & Artur Canade
 ll
DTSTART;TZID=Europe/Madrid;VALUE=DATE-TIME:20260213T190000
DTEND;TZID=Europe/Madrid;VALUE=DATE-TIME:20260213T200000
DTSTAMP;VALUE=DATE-TIME:20260419T162328Z
UID:55b5f0c16b9141acac035532c67132f5@www.molletvalles.cat
CATEGORIES:Música
CREATED;VALUE=DATE-TIME:20260203T103617Z
LAST-MODIFIED;VALUE=DATE-TIME:20260203T105439Z
URL:https://www.molletvalles.cat/es/actualidad/agenda/resonancias-femenina
 s-actuacion-de-leticia-sales-artur-canadell
END:VEVENT
BEGIN:VTIMEZONE
TZID:Europe/Madrid
X-LIC-LOCATION:Europe/Madrid
BEGIN:STANDARD
DTSTART;VALUE=DATE-TIME:20251026T020000
TZNAME:CET
TZOFFSETFROM:+0200
TZOFFSETTO:+0100
END:STANDARD
END:VTIMEZONE
END:VCALENDAR
