BEGIN:VCALENDAR
VERSION:2.0
PRODID:-//Plone.org//NONSGML plone.app.event//EN
X-WR-TIMEZONE:Europe/Madrid
BEGIN:VEVENT
SUMMARY:Salida cultural a Lleida para visitar el Museo Morera de Arte Mode
 rno y Contemporáneo
DTSTART;VALUE=DATE:20250510
DTEND;VALUE=DATE:20250511
DTSTAMP;VALUE=DATE-TIME:20260421T161340Z
UID:342b33ea45d245eb8875783b16db7f5f@www.molletvalles.cat
CATEGORIES:Exposiciones
CREATED;VALUE=DATE-TIME:20250507T101930Z
LAST-MODIFIED;VALUE=DATE-TIME:20250507T102636Z
LOCATION:Salida desde el Pabellón Municipal de Deportes Riera Seca
URL:https://www.molletvalles.cat/es/actualidad/agenda/salida-cultural-a-ll
 eida-para-visitar-el-museo-morera-de-arte-moderno-y-contemporaneo
END:VEVENT
END:VCALENDAR
