BEGIN:VCALENDAR
VERSION:2.0
PRODID:-//Plone.org//NONSGML plone.app.event//EN
X-WR-TIMEZONE:Europe/Madrid
BEGIN:VEVENT
SUMMARY:Salida cultural: Sant Cugat\, El monasterio y su pasado vitivinico
 la
DTSTART;TZID=Europe/Madrid;VALUE=DATE-TIME:20231007T103000
DTEND;TZID=Europe/Madrid;VALUE=DATE-TIME:20231007T113000
DTSTAMP;VALUE=DATE-TIME:20260421T183945Z
UID:f26d9cce7e7e4940b91f95cdfbe6ecc6@www.molletvalles.cat
CATEGORIES:Gente mayor
CREATED;VALUE=DATE-TIME:20230913T130909Z
LAST-MODIFIED;VALUE=DATE-TIME:20230926T104613Z
URL:https://www.molletvalles.cat/es/actualidad/agenda/salida-cultural-sant
 -cugat-el-monasterio-y-su-pasado-vitivinicola
END:VEVENT
BEGIN:VTIMEZONE
TZID:Europe/Madrid
X-LIC-LOCATION:Europe/Madrid
BEGIN:DAYLIGHT
DTSTART;VALUE=DATE-TIME:20230326T030000
TZNAME:CEST
TZOFFSETFROM:+0100
TZOFFSETTO:+0200
END:DAYLIGHT
END:VTIMEZONE
END:VCALENDAR
