BEGIN:VCALENDAR
VERSION:2.0
PRODID:-//Plone.org//NONSGML plone.app.event//EN
X-WR-TIMEZONE:Europe/Madrid
BEGIN:VEVENT
SUMMARY:Sesión formativa "Todo lo que no te han contado sobre hacienda y 
 la seguridad social (y que necesitas saber)"
DTSTART;TZID=Europe/Madrid;VALUE=DATE-TIME:20251118T100000
DTEND;TZID=Europe/Madrid;VALUE=DATE-TIME:20251118T120000
DTSTAMP;VALUE=DATE-TIME:20260419T162012Z
UID:27bc96317ad24ec7a52e505aaed67228@www.molletvalles.cat
CATEGORIES:Cursos y talleres
CREATED;VALUE=DATE-TIME:20251110T112134Z
LAST-MODIFIED;VALUE=DATE-TIME:20251110T112227Z
LOCATION:Mollet Hub (Avda. de Jaime I\, 32)
URL:https://www.molletvalles.cat/es/actualidad/agenda/sesion-formativa-tod
 o-lo-que-no-te-han-contado-sobre-hacienda-y-la-seguridad-social-y-que-nece
 sitas-saber
END:VEVENT
BEGIN:VTIMEZONE
TZID:Europe/Madrid
X-LIC-LOCATION:Europe/Madrid
BEGIN:STANDARD
DTSTART;VALUE=DATE-TIME:20251026T020000
TZNAME:CET
TZOFFSETFROM:+0200
TZOFFSETTO:+0100
END:STANDARD
END:VTIMEZONE
END:VCALENDAR
