BEGIN:VCALENDAR
VERSION:2.0
PRODID:-//Plone.org//NONSGML plone.app.event//EN
X-WR-TIMEZONE:Europe/Madrid
BEGIN:VEVENT
SUMMARY:Sesión informativa: Regularización extraordinaria de personas mi
 grantes 2026
DTSTART;TZID=Europe/Madrid;VALUE=DATE-TIME:20260504T153000
DTEND;TZID=Europe/Madrid;VALUE=DATE-TIME:20260504T173000
DTSTAMP;VALUE=DATE-TIME:20260423T155917Z
UID:d3ef2a894fa54e3b935bd865d523bb8a@www.molletvalles.cat
CATEGORIES:Actos diversos
CREATED;VALUE=DATE-TIME:20260423T092141Z
LAST-MODIFIED;VALUE=DATE-TIME:20260423T092219Z
URL:https://www.molletvalles.cat/es/actualidad/agenda/sesion-informativa-r
 egularizacion-extraordinaria-de-personas-migrantes-2026-2
END:VEVENT
BEGIN:VTIMEZONE
TZID:Europe/Madrid
X-LIC-LOCATION:Europe/Madrid
BEGIN:DAYLIGHT
DTSTART;VALUE=DATE-TIME:20260329T030000
TZNAME:CEST
TZOFFSETFROM:+0100
TZOFFSETTO:+0200
END:DAYLIGHT
END:VTIMEZONE
END:VCALENDAR
