BEGIN:VCALENDAR
VERSION:2.0
PRODID:-//Plone.org//NONSGML plone.app.event//EN
X-WR-TIMEZONE:Europe/Madrid
BEGIN:VEVENT
SUMMARY:Sona Morat! con el grupo All Foll + Ju. Arnau Raya
DTSTART;TZID=Europe/Madrid;VALUE=DATE-TIME:20260117T230000
DTEND;TZID=Europe/Madrid;VALUE=DATE-TIME:20260117T235500
DTSTAMP;VALUE=DATE-TIME:20260421T160349Z
UID:749357c2c36446029ebee7c7c89bf692@www.molletvalles.cat
CATEGORIES:Música
CREATED;VALUE=DATE-TIME:20260114T102232Z
DESCRIPTION:FIESTA MAYOR DE INVIERNO
LAST-MODIFIED;VALUE=DATE-TIME:20260114T102240Z
URL:https://www.molletvalles.cat/es/actualidad/agenda/sona-morat-con-el-gr
 upo-all-foll-ju-arnau-raya
END:VEVENT
BEGIN:VTIMEZONE
TZID:Europe/Madrid
X-LIC-LOCATION:Europe/Madrid
BEGIN:STANDARD
DTSTART;VALUE=DATE-TIME:20251026T020000
TZNAME:CET
TZOFFSETFROM:+0200
TZOFFSETTO:+0100
END:STANDARD
END:VTIMEZONE
END:VCALENDAR
