BEGIN:VCALENDAR
VERSION:2.0
PRODID:-//Plone.org//NONSGML plone.app.event//EN
X-WR-TIMEZONE:Europe/Madrid
BEGIN:VEVENT
SUMMARY:SWING. Actuación de la Orquesta del Baix Montseny y Estoc de Veus
DTSTART;TZID=Europe/Madrid;VALUE=DATE-TIME:20230317T210000
DTEND;TZID=Europe/Madrid;VALUE=DATE-TIME:20230317T220000
DTSTAMP;VALUE=DATE-TIME:20260421T160457Z
UID:22ae7a1d31e740a5bedcd4ec9f8c692f@www.molletvalles.cat
CATEGORIES:Música\, cine y espectáculos
CREATED;VALUE=DATE-TIME:20230130T081143Z
DESCRIPTION:ARTES Y ESCENA
LAST-MODIFIED;VALUE=DATE-TIME:20230208T142038Z
LOCATION:Mercat Vell
URL:https://www.molletvalles.cat/es/actualidad/agenda/swing-actuacion-de-l
 a-orquesta-del-baix-montseny-y-estoc-de-veus
END:VEVENT
BEGIN:VTIMEZONE
TZID:Europe/Madrid
X-LIC-LOCATION:Europe/Madrid
BEGIN:STANDARD
DTSTART;VALUE=DATE-TIME:20221030T020000
TZNAME:CET
TZOFFSETFROM:+0200
TZOFFSETTO:+0100
END:STANDARD
END:VTIMEZONE
END:VCALENDAR
