BEGIN:VCALENDAR
VERSION:2.0
PRODID:-//Plone.org//NONSGML plone.app.event//EN
X-WR-TIMEZONE:Europe/Madrid
BEGIN:VEVENT
SUMMARY:Taller "Canvas y DAFO"
DTSTART;TZID=Europe/Madrid;VALUE=DATE-TIME:20260511T100000
DTEND;TZID=Europe/Madrid;VALUE=DATE-TIME:20260511T120000
DTSTAMP;VALUE=DATE-TIME:20260422T225356Z
UID:f2b08fd0790d4716b5acc5f8beb461c4@www.molletvalles.cat
CATEGORIES:Cursos y talleres
CREATED;VALUE=DATE-TIME:20260422T095047Z
LAST-MODIFIED;VALUE=DATE-TIME:20260422T095144Z
LOCATION:Mollet Hub (Avda. de Jaime I\, 32)
URL:https://www.molletvalles.cat/es/actualidad/agenda/taller-canvas-y-dafo
 -14
END:VEVENT
BEGIN:VTIMEZONE
TZID:Europe/Madrid
X-LIC-LOCATION:Europe/Madrid
BEGIN:DAYLIGHT
DTSTART;VALUE=DATE-TIME:20260329T030000
TZNAME:CEST
TZOFFSETFROM:+0100
TZOFFSETTO:+0200
END:DAYLIGHT
END:VTIMEZONE
END:VCALENDAR
