BEGIN:VCALENDAR
VERSION:2.0
PRODID:-//Plone.org//NONSGML plone.app.event//EN
X-WR-TIMEZONE:Europe/Madrid
BEGIN:VEVENT
SUMMARY:Taller "Canvas y DAFO"
DTSTART;TZID=Europe/Madrid;VALUE=DATE-TIME:20260518T100000
DTEND;TZID=Europe/Madrid;VALUE=DATE-TIME:20260518T120000
DTSTAMP;VALUE=DATE-TIME:20260422T225354Z
UID:d430809d4db64342a4ef612ab9ba3f6a@www.molletvalles.cat
CATEGORIES:Cursos y talleres
CREATED;VALUE=DATE-TIME:20260422T112522Z
LAST-MODIFIED;VALUE=DATE-TIME:20260422T112531Z
LOCATION:Mollet Hub (Avda. de Jaime I\, 32)
URL:https://www.molletvalles.cat/es/actualidad/agenda/taller-canvas-y-dafo
 -15
END:VEVENT
BEGIN:VTIMEZONE
TZID:Europe/Madrid
X-LIC-LOCATION:Europe/Madrid
BEGIN:DAYLIGHT
DTSTART;VALUE=DATE-TIME:20260329T030000
TZNAME:CEST
TZOFFSETFROM:+0100
TZOFFSETTO:+0200
END:DAYLIGHT
END:VTIMEZONE
END:VCALENDAR
