BEGIN:VCALENDAR
VERSION:2.0
PRODID:-//Plone.org//NONSGML plone.app.event//EN
X-WR-TIMEZONE:Europe/Madrid
BEGIN:VEVENT
SUMMARY:Taller: Creación de libros con cartón a cargo de la Asociación 
 de Música y Arte de Mollet del Vallès
DTSTART;VALUE=DATE:20231021
DTEND;VALUE=DATE:20231022
DTSTAMP;VALUE=DATE-TIME:20260419T162447Z
UID:d4d5ccc21f0b406580d8d12879fbfeb9@www.molletvalles.cat
CATEGORIES:Talleres
CREATED;VALUE=DATE-TIME:20231010T132702Z
DESCRIPTION:VILLA DEL LIBRO MOLLET DEL VALLÈS
LAST-MODIFIED;VALUE=DATE-TIME:20231016T091813Z
LOCATION:Parque de Can Mulà
URL:https://www.molletvalles.cat/es/actualidad/agenda/taller-creacion-de-l
 ibros-con-carton-a-cargo-de-la-asociacion-de-musica-y-arte-de-mollet-del-v
 alles
END:VEVENT
END:VCALENDAR
