BEGIN:VCALENDAR
VERSION:2.0
PRODID:-//Plone.org//NONSGML plone.app.event//EN
X-WR-TIMEZONE:Europe/Madrid
BEGIN:VEVENT
SUMMARY:Taller de bordados: Tradición y creatividad con aguja e hilo\, a 
 cargo de Maria Baratas\, artista plástica
DTSTART;VALUE=DATE:20250920
DTEND;VALUE=DATE:20250921
DTSTAMP;VALUE=DATE-TIME:20260421T160446Z
UID:dd67b658578c426e8c7dab787f833040@www.molletvalles.cat
CATEGORIES:Ferias y mercados
CREATED;VALUE=DATE-TIME:20250915T070649Z
DESCRIPTION:FERIA DE ARTESANOS 2025
LAST-MODIFIED;VALUE=DATE-TIME:20250915T094910Z
URL:https://www.molletvalles.cat/es/actualidad/agenda/taller-de-bordados-t
 radicion-y-creatividad-con-aguja-e-hilo-a-cargo-de-maria-baratas-artista-p
 lastica
END:VEVENT
END:VCALENDAR
