BEGIN:VCALENDAR
VERSION:2.0
PRODID:-//Plone.org//NONSGML plone.app.event//EN
X-WR-TIMEZONE:Europe/Madrid
BEGIN:VEVENT
SUMMARY:Taller de ilustración a cargo de la artista Cristina López\, Lal
 opez
DTSTART;TZID=Europe/Madrid;VALUE=DATE-TIME:20230203T181500
DTEND;TZID=Europe/Madrid;VALUE=DATE-TIME:20230203T191500
DTSTAMP;VALUE=DATE-TIME:20260421T140709Z
UID:0bdd236762364cb4a429fcfc673a65f5@www.molletvalles.cat
CATEGORIES:Cursos y talleres
CREATED;VALUE=DATE-TIME:20230124T071514Z
LAST-MODIFIED;VALUE=DATE-TIME:20230209T085343Z
LOCATION:El LLedoner
URL:https://www.molletvalles.cat/es/actualidad/agenda/taller-de-ilustracio
 n-a-cargo-de-la-artista-cristina-lopez-lalopez
END:VEVENT
BEGIN:VTIMEZONE
TZID:Europe/Madrid
X-LIC-LOCATION:Europe/Madrid
BEGIN:STANDARD
DTSTART;VALUE=DATE-TIME:20221030T020000
TZNAME:CET
TZOFFSETFROM:+0200
TZOFFSETTO:+0100
END:STANDARD
END:VTIMEZONE
END:VCALENDAR
