BEGIN:VCALENDAR
VERSION:2.0
PRODID:-//Plone.org//NONSGML plone.app.event//EN
X-WR-TIMEZONE:Europe/Madrid
BEGIN:VEVENT
SUMMARY:Taller de preparación para el 30º premio del concurso de fotogra
 fía de Sant Vicenç 2025 (dirigida a mayores de 16 años)
DTSTART;VALUE=DATE:20241122
DTEND;VALUE=DATE:20241123
DTSTAMP;VALUE=DATE-TIME:20260419T162010Z
UID:57c007e17a354d088e0103ca244b625c@www.molletvalles.cat
CATEGORIES:Talleres
CREATED;VALUE=DATE-TIME:20241031T075857Z
LAST-MODIFIED;VALUE=DATE-TIME:20241118T125044Z
URL:https://www.molletvalles.cat/es/actualidad/agenda/taller-de-preparacio
 n-para-el-30-edicion-del-premio-concurso-de-fotografia-de-sant-vicenc-2025
 -dirigida-a-mayores-de-16-anos
END:VEVENT
END:VCALENDAR
