BEGIN:VCALENDAR
VERSION:2.0
PRODID:-//Plone.org//NONSGML plone.app.event//EN
X-WR-TIMEZONE:Europe/Madrid
BEGIN:VEVENT
SUMMARY:Taller: Entender las facturas (agua\, luz y gas) y conocer cómo a
 horrar energía en el hogar
DTSTART;TZID=Europe/Madrid;VALUE=DATE-TIME:20250521T153000
DTEND;TZID=Europe/Madrid;VALUE=DATE-TIME:20250521T173000
DTSTAMP;VALUE=DATE-TIME:20260419T162411Z
UID:d8046e94361449a6bea6cfcb45487d2f@www.molletvalles.cat
CATEGORIES:Cursos y talleres
CREATED;VALUE=DATE-TIME:20241029T124931Z
LAST-MODIFIED;VALUE=DATE-TIME:20250520T074518Z
URL:https://www.molletvalles.cat/es/actualidad/agenda/taller-entender-las-
 facturas-agua-luz-y-gas-y-conocer-como-ahorrar-energia-en-el-hogar-6
END:VEVENT
BEGIN:VTIMEZONE
TZID:Europe/Madrid
X-LIC-LOCATION:Europe/Madrid
BEGIN:DAYLIGHT
DTSTART;VALUE=DATE-TIME:20250330T030000
TZNAME:CEST
TZOFFSETFROM:+0100
TZOFFSETTO:+0200
END:DAYLIGHT
END:VTIMEZONE
END:VCALENDAR
