BEGIN:VCALENDAR
VERSION:2.0
PRODID:-//Plone.org//NONSGML plone.app.event//EN
X-WR-TIMEZONE:Europe/Madrid
BEGIN:VEVENT
SUMMARY:Taller: Entender las facturas (agua\, luz y gas) y conocer cómo a
 horrar energía en el hogar
DTSTART;TZID=Europe/Madrid;VALUE=DATE-TIME:20250618T153000
DTEND;TZID=Europe/Madrid;VALUE=DATE-TIME:20250618T173000
DTSTAMP;VALUE=DATE-TIME:20260419T162330Z
UID:dfe4966ec8d142f2b1c2d2e49102ed4e@www.molletvalles.cat
CATEGORIES:Cursos y talleres
CREATED;VALUE=DATE-TIME:20241029T125343Z
LAST-MODIFIED;VALUE=DATE-TIME:20250304T091852Z
URL:https://www.molletvalles.cat/es/actualidad/agenda/taller-entender-las-
 facturas-agua-luz-y-gas-y-conocer-como-ahorrar-energia-en-el-hogar-7
END:VEVENT
BEGIN:VTIMEZONE
TZID:Europe/Madrid
X-LIC-LOCATION:Europe/Madrid
BEGIN:DAYLIGHT
DTSTART;VALUE=DATE-TIME:20250330T030000
TZNAME:CEST
TZOFFSETFROM:+0100
TZOFFSETTO:+0200
END:DAYLIGHT
END:VTIMEZONE
END:VCALENDAR
