BEGIN:VCALENDAR
VERSION:2.0
PRODID:-//Plone.org//NONSGML plone.app.event//EN
X-WR-TIMEZONE:Europe/Madrid
BEGIN:VEVENT
SUMMARY:Taller familiar: "Hazte la maleta para el verano"
DTSTART;TZID=Europe/Madrid;VALUE=DATE-TIME:20240122T120000
DTEND;TZID=Europe/Madrid;VALUE=DATE-TIME:20240122T130000
DTSTAMP;VALUE=DATE-TIME:20260421T174007Z
UID:0495154770194e66aa0b81a8d99e8d68@www.molletvalles.cat
CATEGORIES:Infantil,Cursos y talleres
CREATED;VALUE=DATE-TIME:20240115T132757Z
DESCRIPTION:FIESTA MAYOR DE INVIERNO
LAST-MODIFIED;VALUE=DATE-TIME:20240115T132815Z
URL:https://www.molletvalles.cat/es/actualidad/agenda/taller-familiar-hazt
 e-la-maleta-para-el-verano
END:VEVENT
BEGIN:VTIMEZONE
TZID:Europe/Madrid
X-LIC-LOCATION:Europe/Madrid
BEGIN:STANDARD
DTSTART;VALUE=DATE-TIME:20231029T020000
TZNAME:CET
TZOFFSETFROM:+0200
TZOFFSETTO:+0100
END:STANDARD
END:VTIMEZONE
END:VCALENDAR
