BEGIN:VCALENDAR
VERSION:2.0
PRODID:-//Plone.org//NONSGML plone.app.event//EN
X-WR-TIMEZONE:Europe/Madrid
BEGIN:VEVENT
SUMMARY:Taller familiar: "Palabras justas"\, diseñaremos pancartas\, octa
 villas y otros elementos de escritura en el espacio público
DTSTART;TZID=Europe/Madrid;VALUE=DATE-TIME:20251122T120000
DTEND;TZID=Europe/Madrid;VALUE=DATE-TIME:20251122T130000
DTSTAMP;VALUE=DATE-TIME:20260419T162220Z
UID:28a0c87f1f5744ee8cf44241ef23223e@www.molletvalles.cat
CATEGORIES:Cursos y talleres
CREATED;VALUE=DATE-TIME:20251112T131843Z
LAST-MODIFIED;VALUE=DATE-TIME:20251112T131913Z
URL:https://www.molletvalles.cat/es/actualidad/agenda/taller-familiar-pala
 bras-justas-disenaremos-pancartas-octavillas-y-otros-elementos-de-escritur
 a-en-el-espacio-publico
END:VEVENT
BEGIN:VTIMEZONE
TZID:Europe/Madrid
X-LIC-LOCATION:Europe/Madrid
BEGIN:STANDARD
DTSTART;VALUE=DATE-TIME:20251026T020000
TZNAME:CET
TZOFFSETFROM:+0200
TZOFFSETTO:+0100
END:STANDARD
END:VTIMEZONE
END:VCALENDAR
