BEGIN:VCALENDAR
VERSION:2.0
PRODID:-//Plone.org//NONSGML plone.app.event//EN
X-WR-TIMEZONE:Europe/Madrid
BEGIN:VEVENT
SUMMARY:Taller: Hagamos una rana atrapamoscas
DTSTART;TZID=Europe/Madrid;VALUE=DATE-TIME:20230610T120000
DTEND;TZID=Europe/Madrid;VALUE=DATE-TIME:20230610T130000
DTSTAMP;VALUE=DATE-TIME:20260421T140211Z
UID:3f72f4852e71430895d89c555f382322@www.molletvalles.cat
CATEGORIES:Cursos y talleres,Infantil
CREATED;VALUE=DATE-TIME:20230606T094917Z
LAST-MODIFIED;VALUE=DATE-TIME:20230606T094927Z
LOCATION:Abacus Mollet
URL:https://www.molletvalles.cat/es/actualidad/agenda/taller-hagamos-una-r
 ana-atrapamoscas
END:VEVENT
BEGIN:VTIMEZONE
TZID:Europe/Madrid
X-LIC-LOCATION:Europe/Madrid
BEGIN:DAYLIGHT
DTSTART;VALUE=DATE-TIME:20230326T030000
TZNAME:CEST
TZOFFSETFROM:+0100
TZOFFSETTO:+0200
END:DAYLIGHT
END:VTIMEZONE
END:VCALENDAR
