BEGIN:VCALENDAR
VERSION:2.0
PRODID:-//Plone.org//NONSGML plone.app.event//EN
X-WR-TIMEZONE:Europe/Madrid
BEGIN:VEVENT
SUMMARY:Taller práctico: crea una web fácil y atractiva con Canva
DTSTART;TZID=Europe/Madrid;VALUE=DATE-TIME:20260310T100000
DTEND;TZID=Europe/Madrid;VALUE=DATE-TIME:20260310T120000
DTSTAMP;VALUE=DATE-TIME:20260421T135719Z
UID:5a2d70bb2fe147ed891bd7cfc320d54e@www.molletvalles.cat
CATEGORIES:Cursos y talleres
CREATED;VALUE=DATE-TIME:20260218T114931Z
LAST-MODIFIED;VALUE=DATE-TIME:20260218T114939Z
LOCATION:Mollet Hub (Avda. de Jaime I\, 32)
URL:https://www.molletvalles.cat/es/actualidad/agenda/taller-practico-crea
 -una-web-facil-y-atractiva-con-canva
END:VEVENT
BEGIN:VTIMEZONE
TZID:Europe/Madrid
X-LIC-LOCATION:Europe/Madrid
BEGIN:STANDARD
DTSTART;VALUE=DATE-TIME:20251026T020000
TZNAME:CET
TZOFFSETFROM:+0200
TZOFFSETTO:+0100
END:STANDARD
END:VTIMEZONE
END:VCALENDAR
