BEGIN:VCALENDAR
VERSION:2.0
PRODID:-//Plone.org//NONSGML plone.app.event//EN
X-WR-TIMEZONE:Europe/Madrid
BEGIN:VEVENT
SUMMARY:Taller Solidario para Payasos sin Fronteras
DTSTART;TZID=Europe/Madrid;VALUE=DATE-TIME:20250629T120000
DTEND;TZID=Europe/Madrid;VALUE=DATE-TIME:20250629T160000
DTSTAMP;VALUE=DATE-TIME:20260421T160924Z
UID:faf874e5d88743beb706789e0a53110a@www.molletvalles.cat
CATEGORIES:Cursos y talleres
CREATED;VALUE=DATE-TIME:20250616T082214Z
DESCRIPTION:FESTIVAL DE BURBUJAS 2025
LAST-MODIFIED;VALUE=DATE-TIME:20250617T105229Z
LOCATION:Parque de Les Pruneres
URL:https://www.molletvalles.cat/es/actualidad/agenda/taller-solidario-par
 a-payasos-sin-fronteras
END:VEVENT
BEGIN:VTIMEZONE
TZID:Europe/Madrid
X-LIC-LOCATION:Europe/Madrid
BEGIN:DAYLIGHT
DTSTART;VALUE=DATE-TIME:20250330T030000
TZNAME:CEST
TZOFFSETFROM:+0100
TZOFFSETTO:+0200
END:DAYLIGHT
END:VTIMEZONE
END:VCALENDAR
