BEGIN:VCALENDAR
VERSION:2.0
PRODID:-//Plone.org//NONSGML plone.app.event//EN
X-WR-TIMEZONE:Europe/Madrid
BEGIN:VEVENT
SUMMARY:Tapas Tour 2024 . Acompañamiento musical con la charanga Tirant l
 o Band
DTSTART;TZID=Europe/Madrid;VALUE=DATE-TIME:20240816T180000
DTEND;TZID=Europe/Madrid;VALUE=DATE-TIME:20240816T190000
DTSTAMP;VALUE=DATE-TIME:20260421T161057Z
UID:9ce36d2879c044f7bbf93bd468acddf9@www.molletvalles.cat
CREATED;VALUE=DATE-TIME:20240724T094942Z
DESCRIPTION:FIESTA MAYOR 2024
LAST-MODIFIED;VALUE=DATE-TIME:20240724T120946Z
URL:https://www.molletvalles.cat/es/actualidad/agenda/tapas-tour-2024-acom
 panamiento-musical-con-la-charanga-tirant-lo-band
END:VEVENT
BEGIN:VTIMEZONE
TZID:Europe/Madrid
X-LIC-LOCATION:Europe/Madrid
BEGIN:DAYLIGHT
DTSTART;VALUE=DATE-TIME:20240331T030000
TZNAME:CEST
TZOFFSETFROM:+0100
TZOFFSETTO:+0200
END:DAYLIGHT
END:VTIMEZONE
END:VCALENDAR
