BEGIN:VCALENDAR
VERSION:2.0
PRODID:-//Plone.org//NONSGML plone.app.event//EN
X-WR-TIMEZONE:Europe/Madrid
BEGIN:VEVENT
SUMMARY:Teatro infantil: "Armstrong\, un musical muy espacial" a cargo de 
 La Roda
DTSTART;TZID=Europe/Madrid;VALUE=DATE-TIME:20251116T120000
DTEND;TZID=Europe/Madrid;VALUE=DATE-TIME:20251116T130000
DTSTAMP;VALUE=DATE-TIME:20260421T160042Z
UID:bbb2ebadbf3c4c5eb40f7b69e445f0f1@www.molletvalles.cat
CATEGORIES:Infantil
CREATED;VALUE=DATE-TIME:20250918T120110Z
LAST-MODIFIED;VALUE=DATE-TIME:20251014T095046Z
URL:https://www.molletvalles.cat/es/actualidad/agenda/teatro-infantil-arms
 trong-un-musical-muy-espacial-a-cargo-de-la-roda
END:VEVENT
BEGIN:VTIMEZONE
TZID:Europe/Madrid
X-LIC-LOCATION:Europe/Madrid
BEGIN:STANDARD
DTSTART;VALUE=DATE-TIME:20251026T020000
TZNAME:CET
TZOFFSETFROM:+0200
TZOFFSETTO:+0100
END:STANDARD
END:VTIMEZONE
END:VCALENDAR
