BEGIN:VCALENDAR
VERSION:2.0
PRODID:-//Plone.org//NONSGML plone.app.event//EN
X-WR-TIMEZONE:Europe/Madrid
BEGIN:VEVENT
SUMMARY:Teatro infantil: "La lámpara maravillosa" a cargo de Festuc Teatr
 e
DTSTART;TZID=Europe/Madrid;VALUE=DATE-TIME:20240114T120000
DTEND;TZID=Europe/Madrid;VALUE=DATE-TIME:20240114T130000
DTSTAMP;VALUE=DATE-TIME:20260425T121806Z
UID:f5febc727a674a5ab0e82556e28f8881@www.molletvalles.cat
CATEGORIES:Infantil
CREATED;VALUE=DATE-TIME:20231218T121242Z
LAST-MODIFIED;VALUE=DATE-TIME:20231219T113706Z
URL:https://www.molletvalles.cat/es/actualidad/agenda/teatro-infantil-la-l
 ampara-maravillosa-a-cargo-de-festuc-teatre
END:VEVENT
BEGIN:VTIMEZONE
TZID:Europe/Madrid
X-LIC-LOCATION:Europe/Madrid
BEGIN:STANDARD
DTSTART;VALUE=DATE-TIME:20231029T020000
TZNAME:CET
TZOFFSETFROM:+0200
TZOFFSETTO:+0100
END:STANDARD
END:VTIMEZONE
END:VCALENDAR
