BEGIN:VCALENDAR
VERSION:2.0
PRODID:-//Plone.org//NONSGML plone.app.event//EN
X-WR-TIMEZONE:Europe/Madrid
BEGIN:VEVENT
SUMMARY:Teatro: "La piel fina" de la Sala Flyhard
DTSTART;TZID=Europe/Madrid;VALUE=DATE-TIME:20230513T200000
DTEND;TZID=Europe/Madrid;VALUE=DATE-TIME:20230513T210000
DTSTAMP;VALUE=DATE-TIME:20260419T162008Z
UID:bac4b22c9f3d41928ed8840b118272a9@www.molletvalles.cat
CATEGORIES:Artes escénicas,Música\, cine y espectáculos
CREATED;VALUE=DATE-TIME:20230201T110525Z
DESCRIPTION:ARTES Y ESCENA
LAST-MODIFIED;VALUE=DATE-TIME:20230403T081229Z
LOCATION:Teatro Can Gomà
URL:https://www.molletvalles.cat/es/actualidad/agenda/teatro-la-piel-fina-
 de-la-cia-principe-totilau
END:VEVENT
BEGIN:VTIMEZONE
TZID:Europe/Madrid
X-LIC-LOCATION:Europe/Madrid
BEGIN:DAYLIGHT
DTSTART;VALUE=DATE-TIME:20230326T030000
TZNAME:CEST
TZOFFSETFROM:+0100
TZOFFSETTO:+0200
END:DAYLIGHT
END:VTIMEZONE
END:VCALENDAR
