BEGIN:VCALENDAR
VERSION:2.0
PRODID:-//Plone.org//NONSGML plone.app.event//EN
X-WR-TIMEZONE:Europe/Madrid
BEGIN:VEVENT
SUMMARY:Teatro: "La Reina de Bellesa de Leenane"
DTSTART;TZID=Europe/Madrid;VALUE=DATE-TIME:20240421T180000
DTEND;TZID=Europe/Madrid;VALUE=DATE-TIME:20240421T190000
DTSTAMP;VALUE=DATE-TIME:20260421T140314Z
UID:f3756e87189647b1b79fdd83a5fafc35@www.molletvalles.cat
CATEGORIES:Artes escénicas
CREATED;VALUE=DATE-TIME:20240415T075028Z
LAST-MODIFIED;VALUE=DATE-TIME:20240415T075039Z
LOCATION:Sala Fiveller
URL:https://www.molletvalles.cat/es/actualidad/agenda/teatro-la-reina-de-b
 ellesa-de-leenane
END:VEVENT
BEGIN:VTIMEZONE
TZID:Europe/Madrid
X-LIC-LOCATION:Europe/Madrid
BEGIN:DAYLIGHT
DTSTART;VALUE=DATE-TIME:20240331T030000
TZNAME:CEST
TZOFFSETFROM:+0100
TZOFFSETTO:+0200
END:DAYLIGHT
END:VTIMEZONE
END:VCALENDAR
