BEGIN:VCALENDAR
VERSION:2.0
PRODID:-//Plone.org//NONSGML plone.app.event//EN
X-WR-TIMEZONE:Europe/Madrid
BEGIN:VEVENT
SUMMARY:Teatro: "Un punto de vista" a cargo del Grupo de Teatro Can Pantiq
 uet
DTSTART;TZID=Europe/Madrid;VALUE=DATE-TIME:20230318T190000
DTEND;TZID=Europe/Madrid;VALUE=DATE-TIME:20230318T200000
DTSTAMP;VALUE=DATE-TIME:20260419T161642Z
UID:15d7b4d577064fc3ae2047e5c8fd793d@www.molletvalles.cat
CATEGORIES:Música\, cine y espectáculos
CREATED;VALUE=DATE-TIME:20230306T081620Z
LAST-MODIFIED;VALUE=DATE-TIME:20230307T101143Z
URL:https://www.molletvalles.cat/es/actualidad/agenda/teatro-un-punto-de-v
 ista-a-cargo-del-grupo-de-teatro-can-pantiquet
END:VEVENT
BEGIN:VTIMEZONE
TZID:Europe/Madrid
X-LIC-LOCATION:Europe/Madrid
BEGIN:STANDARD
DTSTART;VALUE=DATE-TIME:20221030T020000
TZNAME:CET
TZOFFSETFROM:+0200
TZOFFSETTO:+0100
END:STANDARD
END:VTIMEZONE
END:VCALENDAR
