BEGIN:VCALENDAR
VERSION:2.0
PRODID:-//Plone.org//NONSGML plone.app.event//EN
X-WR-TIMEZONE:Europe/Madrid
BEGIN:VEVENT
SUMMARY:Tertulia literaria: Se hablará del libro "La primera estrella de 
 la tarde" con la autora Nadia Ghulam
DTSTART;TZID=Europe/Madrid;VALUE=DATE-TIME:20250219T183000
DTEND;TZID=Europe/Madrid;VALUE=DATE-TIME:20250219T193000
DTSTAMP;VALUE=DATE-TIME:20260425T172611Z
UID:9226032869394081b26f49dcbd671f01@www.molletvalles.cat
CATEGORIES:Charlas
CREATED;VALUE=DATE-TIME:20250210T075704Z
LAST-MODIFIED;VALUE=DATE-TIME:20250213T091353Z
URL:https://www.molletvalles.cat/es/actualidad/agenda/tertulia-literaria-s
 e-hablara-del-libro-la-primera-estrella-de-la-tarde-con-la-autora-nadia-gh
 ulam
END:VEVENT
BEGIN:VTIMEZONE
TZID:Europe/Madrid
X-LIC-LOCATION:Europe/Madrid
BEGIN:STANDARD
DTSTART;VALUE=DATE-TIME:20241027T020000
TZNAME:CET
TZOFFSETFROM:+0200
TZOFFSETTO:+0100
END:STANDARD
END:VTIMEZONE
END:VCALENDAR
