BEGIN:VCALENDAR
VERSION:2.0
PRODID:-//Plone.org//NONSGML plone.app.event//EN
X-WR-TIMEZONE:Europe/Madrid
BEGIN:VEVENT
SUMMARY:The Picture Show Cineforum: "Demonic Toys" (1992) dirigida por Per
 e Manoogian
DTSTART;TZID=Europe/Madrid;VALUE=DATE-TIME:20250613T214500
DTEND;TZID=Europe/Madrid;VALUE=DATE-TIME:20250613T233000
DTSTAMP;VALUE=DATE-TIME:20260419T170310Z
UID:37c6e1b3ddf84a63ae9a5e0da7df2e88@www.molletvalles.cat
CATEGORIES:Cine
CREATED;VALUE=DATE-TIME:20250530T102522Z
LAST-MODIFIED;VALUE=DATE-TIME:20250530T110018Z
URL:https://www.molletvalles.cat/es/actualidad/agenda/the-picture-show-cin
 eforum-demonic-toys-1992-dirigida-por-pere-manoogian
END:VEVENT
BEGIN:VTIMEZONE
TZID:Europe/Madrid
X-LIC-LOCATION:Europe/Madrid
BEGIN:DAYLIGHT
DTSTART;VALUE=DATE-TIME:20250330T030000
TZNAME:CEST
TZOFFSETFROM:+0100
TZOFFSETTO:+0200
END:DAYLIGHT
END:VTIMEZONE
END:VCALENDAR
